BEGIN:VCALENDAR
VERSION:2.0
PRODID:SchoolNow
CALSCALE:GREGORIAN
BEGIN:VEVENT
UID:6f78af00-b4da-11f0-852e-0affda30926b
DTSTAMP:20251029T151751Z
SUMMARY:No School-Veterans Day
URL;VALUE=URI:https://schools.shrewsburyma.gov/paton/calendar/8759293/no-sc
 hool-veterans-day
DTSTART;VALUE=DATE:20251111
DTEND;VALUE=DATE:20251112
END:VEVENT
END:VCALENDAR
