BEGIN:VCALENDAR
VERSION:2.0
PRODID:SchoolNow
CALSCALE:GREGORIAN
BEGIN:VEVENT
UID:5e9468f0-b4da-11f0-aa17-0affe6eaa2ad
DTSTAMP:20251029T151723Z
SUMMARY:No School-Parent/Teacher Conference Day
URL;VALUE=URI:https://schools.shrewsburyma.gov/paton/calendar/8759292/no-sc
 hool-parent-teacher-conference-day
DTSTART;VALUE=DATE:20251110
DTEND;VALUE=DATE:20251111
END:VEVENT
END:VCALENDAR
