BEGIN:VCALENDAR
VERSION:2.0
PRODID:SchoolNow
CALSCALE:GREGORIAN
BEGIN:VEVENT
UID:41622eb2-b4d9-11f0-87d0-0affe6eaa2ad
DTSTAMP:20251029T150924Z
SUMMARY:Student picture retake day
URL;VALUE=URI:https://schools.shrewsburyma.gov/paton/calendar/8759291/stude
 nt-picture-retake-day
DTSTART:20251105T143000Z
DTEND:20251105T150000Z
END:VEVENT
END:VCALENDAR
