BEGIN:VCALENDAR
VERSION:2.0
PRODID:SchoolNow
CALSCALE:GREGORIAN
BEGIN:VEVENT
UID:f4331f4e-b4d7-11f0-be88-0a58a9feac02
DTSTAMP:20251029T150005Z
SUMMARY:Community concert with Phillip Alexander
URL;VALUE=URI:https://schools.shrewsburyma.gov/paton/calendar/8759290/commu
 nity-concert-with-phillip-alexander
DTSTART:20251029T223000Z
DTEND:20251029T233000Z
END:VEVENT
END:VCALENDAR
