BEGIN:VCALENDAR
VERSION:2.0
PRODID:SchoolNow
CALSCALE:GREGORIAN
BEGIN:VEVENT
UID:4291e16e-8cc1-11f0-a46a-0a58a9feac02
DTSTAMP:20250908T143652Z
SUMMARY:No school-Indigenous Peoples day/Columbus Day
URL;VALUE=URI:https://schools.shrewsburyma.gov/paton/calendar/8594671/no-sc
 hool-indigenous-peoples-day-columbus-day
DTSTART;VALUE=DATE:20251013
DTEND;VALUE=DATE:20251014
END:VEVENT
END:VCALENDAR
