BEGIN:VCALENDAR
VERSION:2.0
PRODID:SchoolNow
CALSCALE:GREGORIAN
BEGIN:VEVENT
UID:22e92e08-8cc1-11f0-8c9b-02538cadc0c7
DTSTAMP:20250908T143559Z
SUMMARY:No School- Professional development day
URL;VALUE=URI:https://schools.shrewsburyma.gov/paton/calendar/8594670/no-sc
 hool-professional-development-day
DTSTART;VALUE=DATE:20251010
DTEND;VALUE=DATE:20251011
END:VEVENT
END:VCALENDAR
