BEGIN:VCALENDAR
VERSION:2.0
PRODID:SchoolNow
CALSCALE:GREGORIAN
BEGIN:VEVENT
UID:0454c240-8cc1-11f0-806d-0a58a9feac02
DTSTAMP:20250908T143507Z
SUMMARY:Student picture day
URL;VALUE=URI:https://schools.shrewsburyma.gov/paton/calendar/8594669/stude
 nt-picture-day
DTSTART;VALUE=DATE:20251015
DTEND;VALUE=DATE:20251016
END:VEVENT
END:VCALENDAR
