BEGIN:VCALENDAR
VERSION:2.0
PRODID:SchoolNow
CALSCALE:GREGORIAN
BEGIN:VEVENT
UID:ec40ad7c-8cc0-11f0-b01e-0a58a9feac02
DTSTAMP:20250908T143427Z
SUMMARY:Family Open House
URL;VALUE=URI:https://schools.shrewsburyma.gov/paton/calendar/8594668/famil
 y-open-house
DTSTART:20251009T213000Z
DTEND:20251009T233000Z
END:VEVENT
END:VCALENDAR
