BEGIN:VCALENDAR
VERSION:2.0
PRODID:SchoolNow
CALSCALE:GREGORIAN
BEGIN:VEVENT
UID:1ca01b7a-77b2-11f0-9ff0-0289337850b1
DTSTAMP:20251216T214557Z
SUMMARY:First Day of School for grades PreK and K
URL;VALUE=URI:https://schools.shrewsburyma.gov/paton/calendar/8494737/first
 -day-of-school-for-grades-prek-and-k
DTSTART;VALUE=DATE:20250828
DTEND;VALUE=DATE:20250829
END:VEVENT
END:VCALENDAR
