BEGIN:VCALENDAR
VERSION:2.0
PRODID:SchoolNow
CALSCALE:GREGORIAN
BEGIN:VEVENT
UID:1ca0176a-77b2-11f0-94cf-0289337850b1
DTSTAMP:20251216T214557Z
SUMMARY:First Day of School
URL;VALUE=URI:https://schools.shrewsburyma.gov/paton/calendar/8494736/first
 -day-of-school
DTSTART;VALUE=DATE:20250827
DTEND;VALUE=DATE:20250828
END:VEVENT
END:VCALENDAR
