BEGIN:VCALENDAR
VERSION:2.0
PRODID:SchoolNow
CALSCALE:GREGORIAN
BEGIN:VEVENT
UID:ddc9c09a-6348-11f0-9dc6-0a58a9feac02
DTSTAMP:20250717T200145Z
SUMMARY:First day of school for kindergarten students
URL;VALUE=URI:https://schools.shrewsburyma.gov/paton/calendar/8424717/first
 -day-of-school-for-kindergarten-students
DTSTART;VALUE=DATE:20250828
DTEND;VALUE=DATE:20250829
END:VEVENT
END:VCALENDAR
