BEGIN:VCALENDAR
VERSION:2.0
PRODID:SchoolNow
CALSCALE:GREGORIAN
BEGIN:VEVENT
UID:c4dcce88-6348-11f0-92e4-0a58a9feac02
DTSTAMP:20250717T200104Z
SUMMARY:Kindergarten classroom visits-Last name M-Z
URL;VALUE=URI:https://schools.shrewsburyma.gov/paton/calendar/8424716/kinde
 rgarten-classroom-visits-last-name-m-z
DTSTART:20250827T141500Z
DTEND:20250827T144500Z
END:VEVENT
END:VCALENDAR
