BEGIN:VCALENDAR
VERSION:2.0
PRODID:SchoolNow
CALSCALE:GREGORIAN
BEGIN:VEVENT
UID:97c23b5e-6348-11f0-ab64-0a58a9feac02
DTSTAMP:20250717T195948Z
SUMMARY:Kindergarten Classroom visits Last name A-L
URL;VALUE=URI:https://schools.shrewsburyma.gov/paton/calendar/8424715/kinde
 rgarten-classroom-visits-last-name-a-l
DTSTART:20250827T133000Z
DTEND:20250827T140000Z
END:VEVENT
END:VCALENDAR
