BEGIN:VCALENDAR
VERSION:2.0
PRODID:SchoolNow
CALSCALE:GREGORIAN
BEGIN:VEVENT
UID:554bf9d6-6348-11f0-b57b-0a58a9feac02
DTSTAMP:20250717T195756Z
SUMMARY:Grades 1-4 First Day of School
URL;VALUE=URI:https://schools.shrewsburyma.gov/paton/calendar/8424714/grade
 s-1-4-first-day-of-school
DTSTART;VALUE=DATE:20250827
DTEND;VALUE=DATE:20250828
END:VEVENT
END:VCALENDAR
