BEGIN:VCALENDAR
VERSION:2.0
PRODID:SchoolNow
CALSCALE:GREGORIAN
BEGIN:VEVENT
UID:395c61c0-6348-11f0-9b24-0a58a9feac02
DTSTAMP:20250717T195709Z
SUMMARY:Self guided school visit
URL;VALUE=URI:https://schools.shrewsburyma.gov/paton/calendar/8424713/self-
 guided-school-visit
DTSTART:20250826T203000Z
DTEND:20250826T220000Z
END:VEVENT
END:VCALENDAR
