BEGIN:VCALENDAR
VERSION:2.0
PRODID:SchoolNow
CALSCALE:GREGORIAN
BEGIN:VEVENT
UID:11983fec-6348-11f0-ab91-0a58a9feac02
DTSTAMP:20250717T195603Z
SUMMARY:Playground Social
URL;VALUE=URI:https://schools.shrewsburyma.gov/paton/calendar/8424712/playg
 round-social
DTSTART:20250820T203000Z
DTEND:20250820T213000Z
END:VEVENT
END:VCALENDAR
