BEGIN:VCALENDAR
VERSION:2.0
PRODID:SchoolNow
CALSCALE:GREGORIAN
BEGIN:VEVENT
UID:f8ce136a-6347-11f0-9d3a-0a58a9feac02
DTSTAMP:20250717T195521Z
SUMMARY:Playground Social
URL;VALUE=URI:https://schools.shrewsburyma.gov/paton/calendar/8424711/playg
 round-social
DTSTART:20250812T203000Z
DTEND:20250812T213000Z
END:VEVENT
END:VCALENDAR
