BEGIN:VCALENDAR
VERSION:2.0
PRODID:SchoolNow
CALSCALE:GREGORIAN
BEGIN:VEVENT
UID:aa1de4a4-4621-11f0-b153-0a58a9feac02
DTSTAMP:20250610T173805Z
SUMMARY:Last day of School-12:30 dismissal
URL;VALUE=URI:https://schools.shrewsburyma.gov/paton/calendar/8281933/last-
 day-of-school-12-30-dismissal
DTSTART;VALUE=DATE:20250616
DTEND;VALUE=DATE:20250617
END:VEVENT
END:VCALENDAR
