BEGIN:VCALENDAR
VERSION:2.0
PRODID:SchoolNow
CALSCALE:GREGORIAN
BEGIN:VEVENT
UID:e76f6b22-34cc-11f0-a0e8-0e060aa23985
DTSTAMP:20250519T161830Z
SUMMARY:No School- Memorial Day
URL;VALUE=URI:https://schools.shrewsburyma.gov/paton/calendar/8164026/no-sc
 hool-memorial-day
DTSTART;VALUE=DATE:20250526
DTEND;VALUE=DATE:20250527
END:VEVENT
END:VCALENDAR
