BEGIN:VCALENDAR
VERSION:2.0
PRODID:SchoolNow
CALSCALE:GREGORIAN
BEGIN:VEVENT
UID:a77f7b4c-34cc-11f0-b056-0a58a9feac02
DTSTAMP:20250519T161643Z
SUMMARY:Kindergarten Celebration
URL;VALUE=URI:https://schools.shrewsburyma.gov/paton/calendar/8164025/kinde
 rgarten-celebration
DTSTART:20250609T173000Z
DTEND:20250609T183000Z
END:VEVENT
END:VCALENDAR
