BEGIN:VCALENDAR
VERSION:2.0
PRODID:SchoolNow
CALSCALE:GREGORIAN
BEGIN:VEVENT
UID:2936661c-2a89-11f0-9c88-0a58a9feac02
DTSTAMP:20250506T144823Z
SUMMARY:Senior walkthrough
URL;VALUE=URI:https://schools.shrewsburyma.gov/paton/calendar/8077496/senio
 r-walkthrough
DTSTART:20250602T143000Z
DTEND:20250602T153000Z
END:VEVENT
END:VCALENDAR
