BEGIN:VCALENDAR
VERSION:2.0
PRODID:SchoolNow
CALSCALE:GREGORIAN
BEGIN:VEVENT
UID:b614396c-13d0-11f0-801c-0a58a9feac02
DTSTAMP:20250407T165719Z
SUMMARY:No School for KINDERGARTEN students- incoming kindergarten screenin
 g day
URL;VALUE=URI:https://schools.shrewsburyma.gov/paton/calendar/7871866/no-sc
 hool-kindergarten-only
DTSTART;VALUE=DATE:20250502
DTEND;VALUE=DATE:20250503
END:VEVENT
END:VCALENDAR
