BEGIN:VCALENDAR
VERSION:2.0
PRODID:SchoolNow
CALSCALE:GREGORIAN
BEGIN:VEVENT
UID:a408a46a-13d0-11f0-a689-0205c08f9bff
DTSTAMP:20250407T165608Z
SUMMARY:No School for KINDERGARTEN Students-Incoming kindergarten screening
  day
URL;VALUE=URI:https://schools.shrewsburyma.gov/paton/calendar/7871865/no-sc
 hool-kindergarten-only
DTSTART;VALUE=DATE:20250501
DTEND;VALUE=DATE:20250502
END:VEVENT
END:VCALENDAR
