BEGIN:VCALENDAR
VERSION:2.0
PRODID:SchoolNow
CALSCALE:GREGORIAN
BEGIN:VEVENT
UID:75aa3bce-13d0-11f0-84e2-0a58a9feac02
DTSTAMP:20250519T162208Z
SUMMARY:Grade four Celebration
URL;VALUE=URI:https://schools.shrewsburyma.gov/paton/calendar/7871864/grade
 -four-celebration
DTSTART:20250612T140000Z
DTEND:20250612T150000Z
END:VEVENT
END:VCALENDAR
