BEGIN:VCALENDAR
VERSION:2.0
PRODID:SchoolNow
CALSCALE:GREGORIAN
BEGIN:VEVENT
UID:4f4cfac0-13d0-11f0-89e0-0a58a9feac02
DTSTAMP:20250407T164945Z
SUMMARY:Field Day
URL;VALUE=URI:https://schools.shrewsburyma.gov/paton/calendar/7871863/field
 -day
DTSTART;VALUE=DATE:20250604
DTEND;VALUE=DATE:20250605
END:VEVENT
END:VCALENDAR
