BEGIN:VCALENDAR
VERSION:2.0
PRODID:SchoolNow
CALSCALE:GREGORIAN
BEGIN:VEVENT
UID:0455af1c-13d0-11f0-9402-02fad9290541
DTSTAMP:20250407T164739Z
SUMMARY:Grade Four Spring Choral Concert
URL;VALUE=URI:https://schools.shrewsburyma.gov/paton/calendar/7871861/grade
 -four-spring-choral-concert
DTSTART;VALUE=DATE:20250513
DTEND;VALUE=DATE:20250514
END:VEVENT
END:VCALENDAR
