BEGIN:VCALENDAR
VERSION:2.0
PRODID:SchoolNow
CALSCALE:GREGORIAN
BEGIN:VEVENT
UID:055e95de-0676-11f0-939d-0ea4eaec7451
DTSTAMP:20250321T170041Z
SUMMARY:Early release day-12:30 dismissal
URL;VALUE=URI:https://schools.shrewsburyma.gov/paton/calendar/7739940/early
 -release-day-12-30-dismissal
DTSTART:20250401T043000Z
DTEND:20250401T044500Z
END:VEVENT
END:VCALENDAR
