BEGIN:VCALENDAR
VERSION:2.0
PRODID:SchoolNow
CALSCALE:GREGORIAN
BEGIN:VEVENT
UID:23e4fcba-dda8-11ef-a6e3-0afff70ea491
DTSTAMP:20250128T184609Z
SUMMARY:Early release day- 12:30 Dismissal
URL;VALUE=URI:https://schools.shrewsburyma.gov/paton/calendar/7388831/early
 -release-day-12-30-dismissal
DTSTART;VALUE=DATE:20250204
DTEND;VALUE=DATE:20250205
END:VEVENT
END:VCALENDAR
