BEGIN:VCALENDAR
VERSION:2.0
PRODID:SchoolNow
CALSCALE:GREGORIAN
BEGIN:VEVENT
UID:021a6e76-dda8-11ef-b762-0afff70ea491
DTSTAMP:20250128T184706Z
SUMMARY:Presidents Day-No school
URL;VALUE=URI:https://schools.shrewsburyma.gov/paton/calendar/7388830/presi
 dents-day
DTSTART;VALUE=DATE:20250217
DTEND;VALUE=DATE:20250218
END:VEVENT
END:VCALENDAR
