BEGIN:VCALENDAR
VERSION:2.0
PRODID:SchoolNow
CALSCALE:GREGORIAN
BEGIN:VEVENT
UID:e6580bc6-dda7-11ef-a9b5-0a58a9feac02
DTSTAMP:20250128T184426Z
SUMMARY:Winter Vacation
URL;VALUE=URI:https://schools.shrewsburyma.gov/paton/calendar/7388829/winte
 r-vacation
DTSTART;VALUE=DATE:20250218
DTEND;VALUE=DATE:20250222
END:VEVENT
END:VCALENDAR
