BEGIN:VCALENDAR
VERSION:2.0
PRODID:SchoolNow
CALSCALE:GREGORIAN
BEGIN:VEVENT
UID:5657d06c-bd6b-11ef-9cdd-0a58a9feac02
DTSTAMP:20241218T181017Z
SUMMARY:M.L. King Day-No school
URL;VALUE=URI:https://schools.shrewsburyma.gov/paton/calendar/7191530/m-l-k
 ing-day-no-school
DTSTART;VALUE=DATE:20250120
DTEND;VALUE=DATE:20250121
END:VEVENT
END:VCALENDAR
