BEGIN:VCALENDAR
VERSION:2.0
PRODID:SchoolNow
CALSCALE:GREGORIAN
BEGIN:VEVENT
UID:1375b2f0-bd6b-11ef-86f8-0a58a9feac02
DTSTAMP:20241218T180825Z
SUMMARY:Early Release Day-12:30 Dismissal
URL;VALUE=URI:https://schools.shrewsburyma.gov/paton/calendar/7191529/early
 -release-day-12-30-dismissal
DTSTART;VALUE=DATE:20250107
DTEND;VALUE=DATE:20250108
END:VEVENT
END:VCALENDAR
