BEGIN:VCALENDAR
VERSION:2.0
PRODID:SchoolNow
CALSCALE:GREGORIAN
BEGIN:VEVENT
UID:445ba3e4-a69a-11ef-8bf7-0e2b58fea797
DTSTAMP:20241119T171817Z
SUMMARY:No School-Thanksgiving break
URL;VALUE=URI:https://schools.shrewsburyma.gov/paton/calendar/7047695/no-sc
 hool-thanksgiving-break
DTSTART;VALUE=DATE:20241127
DTEND;VALUE=DATE:20241130
END:VEVENT
END:VCALENDAR
