BEGIN:VCALENDAR
VERSION:2.0
PRODID:SchoolNow
CALSCALE:GREGORIAN
BEGIN:VEVENT
UID:0ed8cec6-a691-11ef-a179-0e811680065d
DTSTAMP:20241119T161222Z
SUMMARY:Early release day- 12:30 dismissal
URL;VALUE=URI:https://schools.shrewsburyma.gov/paton/calendar/7047692/early
 -release-day-12-30-dismissal
DTSTART;VALUE=DATE:20241210
DTEND;VALUE=DATE:20241211
END:VEVENT
END:VCALENDAR
