BEGIN:VCALENDAR
VERSION:2.0
PRODID:SchoolNow
CALSCALE:GREGORIAN
BEGIN:VEVENT
UID:986cbb6e-922a-11ef-8dd4-0a58a9feac02
DTSTAMP:20241024T170831Z
SUMMARY:No School- Veteran's Day
URL;VALUE=URI:https://schools.shrewsburyma.gov/paton/calendar/6889704/no-sc
 hool-veterans-day
DTSTART;VALUE=DATE:20241111
DTEND;VALUE=DATE:20241112
END:VEVENT
END:VCALENDAR
