BEGIN:VCALENDAR
VERSION:2.0
PRODID:SchoolNow
CALSCALE:GREGORIAN
BEGIN:VEVENT
UID:70f08e30-922a-11ef-8269-0ef543099431
DTSTAMP:20241024T170725Z
SUMMARY:No School-Parent teacher conferences
URL;VALUE=URI:https://schools.shrewsburyma.gov/paton/calendar/6889685/no-sc
 hool-parent-teacher-conferences
DTSTART;VALUE=DATE:20241105
DTEND;VALUE=DATE:20241106
END:VEVENT
END:VCALENDAR
