BEGIN:VCALENDAR
VERSION:2.0
PRODID:SchoolNow
CALSCALE:GREGORIAN
BEGIN:VEVENT
UID:b00a713c-8d64-11ef-87c8-0a58a9feac02
DTSTAMP:20241024T171014Z
SUMMARY:Scholastic book fair
URL;VALUE=URI:https://schools.shrewsburyma.gov/paton/calendar/6850478/schol
 astic-book-fair
DTSTART;VALUE=DATE:20241112
DTEND;VALUE=DATE:20241116
END:VEVENT
END:VCALENDAR
