BEGIN:VCALENDAR
VERSION:2.0
PRODID:SchoolNow
CALSCALE:GREGORIAN
BEGIN:VEVENT
UID:d8b9abf8-711b-11ef-a8bf-0afff3f87517
DTSTAMP:20240912T152948Z
SUMMARY:Student picture day
URL;VALUE=URI:https://schools.shrewsburyma.gov/paton/calendar/6586377/stude
 nt-picture-day
DTSTART:20241010T133000Z
DTEND:20241010T150000Z
END:VEVENT
END:VCALENDAR
