BEGIN:VCALENDAR
VERSION:2.0
PRODID:SchoolNow
CALSCALE:GREGORIAN
BEGIN:VEVENT
UID:b2e5dd4e-711a-11ef-9736-0afff3f4b85f
DTSTAMP:20240912T152135Z
SUMMARY:Back to School Carnival
URL;VALUE=URI:https://schools.shrewsburyma.gov/paton/calendar/6586376/back-
 to-school-carnival
DTSTART:20240918T220000Z
DTEND:20240919T000000Z
END:VEVENT
END:VCALENDAR
