BEGIN:VCALENDAR
VERSION:2.0
PRODID:SchoolNow
CALSCALE:GREGORIAN
BEGIN:VEVENT
UID:25db6fe0-711a-11ef-b188-0263237086b5
DTSTAMP:20240912T151904Z
SUMMARY:Family Open House
URL;VALUE=URI:https://schools.shrewsburyma.gov/paton/calendar/6586375/famil
 y-open-house
DTSTART:20241001T213000Z
DTEND:20241001T233000Z
END:VEVENT
END:VCALENDAR
