BEGIN:VCALENDAR
VERSION:2.0
PRODID:SchoolNow
CALSCALE:GREGORIAN
BEGIN:VEVENT
UID:1c17a06e-6ad0-11ef-bcf2-0affd54cd9e7
DTSTAMP:20240904T151232Z
SUMMARY:Paton Movie Night
URL;VALUE=URI:https://schools.shrewsburyma.gov/paton/calendar/6523469/paton
 -movie-night
DTSTART:20241030T223000Z
DTEND:20241031T000000Z
END:VEVENT
END:VCALENDAR
