BEGIN:VCALENDAR
VERSION:2.0
PRODID:SchoolNow
CALSCALE:GREGORIAN
BEGIN:VEVENT
UID:ef856be4-6acf-11ef-963f-0a58a9feac02
DTSTAMP:20240904T151118Z
SUMMARY:No school-Columbus Day/Indigenous People Day
URL;VALUE=URI:https://schools.shrewsburyma.gov/paton/calendar/6523467/no-sc
 hool-columbus-day-indigenous-people-day
DTSTART;VALUE=DATE:20241014
DTEND;VALUE=DATE:20241015
END:VEVENT
END:VCALENDAR
