BEGIN:VCALENDAR
VERSION:2.0
PRODID:SchoolNow
CALSCALE:GREGORIAN
BEGIN:VEVENT
UID:9cccd374-6acf-11ef-9307-0e41aca1d401
DTSTAMP:20240904T150859Z
SUMMARY:No School- PD day for Educators
URL;VALUE=URI:https://schools.shrewsburyma.gov/paton/calendar/6523466/no-sc
 hool-pd-day-for-educators
DTSTART;VALUE=DATE:20241011
DTEND;VALUE=DATE:20241012
END:VEVENT
END:VCALENDAR
