BEGIN:VCALENDAR
VERSION:2.0
PRODID:SchoolNow
CALSCALE:GREGORIAN
BEGIN:VEVENT
UID:4c3a2a9c-6acf-11ef-b279-0e2e5f6d3f31
DTSTAMP:20240904T150644Z
SUMMARY:Walk\, Bike\, Roll to school day
URL;VALUE=URI:https://schools.shrewsburyma.gov/paton/calendar/6523465/walk-
 bike-roll-to-school-day
DTSTART:20241002T124500Z
DTEND:20241002T130000Z
END:VEVENT
END:VCALENDAR
