BEGIN:VCALENDAR
VERSION:2.0
PRODID:SchoolNow
CALSCALE:GREGORIAN
BEGIN:VEVENT
UID:df1e0f76-4745-11e9-8b3d-12a09379eaca
DTSTAMP:20190315T171503Z
SUMMARY:Early Release
URL;VALUE=URI:https://schools.shrewsburyma.gov/parker/calendar/1955967/earl
 y-release
DTSTART:20190507T150000Z
DTEND:20190507T194500Z
END:VEVENT
END:VCALENDAR
