BEGIN:VCALENDAR
VERSION:2.0
PRODID:SchoolNow
CALSCALE:GREGORIAN
BEGIN:VEVENT
UID:66e83e7e-2706-11e8-8f70-0a7e5c0fd1de
DTSTAMP:20190315T175447Z
SUMMARY:Early Release
URL;VALUE=URI:https://schools.shrewsburyma.gov/parker/calendar/1737074/earl
 y-release
DTSTART:20190402T040000Z
DTEND:20190402T194500Z
END:VEVENT
END:VCALENDAR
