BEGIN:VCALENDAR
VERSION:2.0
PRODID:SchoolNow
CALSCALE:GREGORIAN
BEGIN:VEVENT
UID:25c81886-5824-11f0-8aa3-0273f81fc779
DTSTAMP:20250930T144259Z
SUMMARY:Curriculum Night 7th Grade
URL;VALUE=URI:https://schools.shrewsburyma.gov/oak/calendar/8381011/curricu
 lum-night-7th-grade
DTSTART:20250930T220000Z
DTEND:20251001T000000Z
END:VEVENT
END:VCALENDAR
