BEGIN:VCALENDAR
VERSION:2.0
PRODID:SchoolNow
CALSCALE:GREGORIAN
BEGIN:VEVENT
UID:7aeaa1ba-581c-11f0-a0c2-0efa27d97e01
DTSTAMP:20250703T144619Z
SUMMARY:Oak Middle School Open House
URL;VALUE=URI:https://schools.shrewsburyma.gov/oak/calendar/8381005/oak-mid
 dle-school-open-house
DTSTART:20250819T190000Z
DTEND:20250819T210000Z
ATTACH;FILENAME=Open House.jpeg;FMTTYPE=image/jpeg:https://campussuite-stor
 age.s3.amazonaws.com/prod/11162/b2004386-1ca3-11e6-b537-22000bd8490f/29783
 29/0628bb6e-581c-11f0-b3f1-0e8e356708a9/file/Open House.jpeg
END:VEVENT
END:VCALENDAR
