BEGIN:VCALENDAR
VERSION:2.0
PRODID:SchoolNow
CALSCALE:GREGORIAN
BEGIN:VEVENT
UID:852fd182-03ce-11f1-bb53-02c286309ee7
DTSTAMP:20260207T024135Z
SUMMARY:Early Release Day
URL;VALUE=URI:https://schools.shrewsburyma.gov/high/calendar/8850914/early-
 release-day
DTSTART:20260303T125500Z
DTEND:20260303T163000Z
END:VEVENT
END:VCALENDAR
