BEGIN:VCALENDAR
VERSION:2.0
PRODID:SchoolNow
CALSCALE:GREGORIAN
BEGIN:VEVENT
UID:206333c0-03ce-11f1-ad7c-0a58a9feac02
DTSTAMP:20260207T023846Z
SUMMARY:February Break - NO SCHOOL
URL;VALUE=URI:https://schools.shrewsburyma.gov/high/calendar/8850912/februa
 ry-break-no-school
DTSTART;VALUE=DATE:20260217
DTEND;VALUE=DATE:20260221
END:VEVENT
END:VCALENDAR
